BEGIN:VCALENDAR
VERSION:2.0
PRODID:-//Aktivpark.hu - ECPv5.14.1//NONSGML v1.0//EN
CALSCALE:GREGORIAN
METHOD:PUBLISH
X-WR-CALNAME:Aktivpark.hu
X-ORIGINAL-URL:https://aktivpark.hu
X-WR-CALDESC:Events for Aktivpark.hu
BEGIN:VTIMEZONE
TZID:UTC
BEGIN:STANDARD
TZOFFSETFROM:+0000
TZOFFSETTO:+0000
TZNAME:UTC
DTSTART:20190101T000000
END:STANDARD
END:VTIMEZONE
BEGIN:VEVENT
DTSTART;TZID=UTC:20191002T080000
DTEND;TZID=UTC:20191002T170000
DTSTAMP:20260424T142608
CREATED:20190110T105137Z
LAST-MODIFIED:20190228T061223Z
UID:253-1570003200-1570035600@aktivpark.hu
SUMMARY:Games with Kids
DESCRIPTION:Donec ultricies tellus orci\, quis tristique nisi lobortis sed. Donec id ex a mauris fringilla ullamcorper. Nulla magna massa\, elementum sed nibh sed\, laoreet aliquam felis. Sed ante augue\, luctus et tortor vel\, dignissim blandit nibh. Aliquam ut pretium sapien. Donec interdum est in arcu varius\, in tincidunt felis semper. Pellentesque habitant morbi tristique senectus et netus et malesuada fames ac turpis egestas. Cras at nulla eget ante fermentum eleifend. Nunc sed ultricies urna. Etiam sed augue ac tortor condimentum vestibulum vitae eu felis. \nVestibulum nec ipsum sed erat ullamcorper feugiat. Suspendisse potenti. Cum sociis natoque penatibus et magnis dis parturient montes\, nascetur ridiculus mus. Suspendisse pellentesque\, nunc et cursus blandit\, dolor leo posuere urna\, in elementum leo sem sed leo. Sed lacinia ipsum ligula\, at hendrerit risus pretium nec. Praesent vitae velit id augue ornare mollis nec vel quam. Nulla non ligula tristique\, consequat nibh non\, pellentesque nibh. Integer efficitur risus ac urna mattis maximus. Fusce egestas nisi sit amet ante dapibus maximus.
URL:https://aktivpark.hu/event/games-with-kids/
LOCATION:Hogwarts\, 11th cross\, Melbourne\, Australia
CATEGORIES:Family
ATTACH;FMTTYPE=image/jpeg:https://aktivpark.hu/wp-content/uploads/2019/01/event3.jpg
END:VEVENT
END:VCALENDAR